BEGIN:VCALENDAR
VERSION:2.0
PRODID:-//Kirche Bergstedt - ECPv4.0.7//NONSGML v1.0//EN
CALSCALE:GREGORIAN
METHOD:PUBLISH
X-WR-CALNAME:Kirche Bergstedt
X-ORIGINAL-URL:http://kirchebergstedt.de
X-WR-CALDESC:Events for Kirche Bergstedt
BEGIN:VEVENT
DTSTART;TZID="Europe/Berlin":20220529T100000
DTEND;TZID="Europe/Berlin":20220529T110000
DTSTAMP:20260419T141348
CREATED:20220519T114239
LAST-MODIFIED:20220519T114436
UID:6402-1653818400-1653822000@kirchebergstedt.de
SUMMARY:Sinnlicher Sonntag - Das Leben feiern! Ein Gottesdienst für die Region
DESCRIPTION:Den sinnlichen Sonntag feiern wir im Rahmen eines Open-Air Gottesdienstes im Park hinter der Kirche Bergstedt. Alle sind herzlich willkommen\, Räume und Sprache sind barrierearm.
URL:http://kirchebergstedt.de/event/sinnlicher-sonntag-das-leben-feiern-ein-gottesdienst-fuer-die-region/
END:VEVENT
END:VCALENDAR