BEGIN:VCALENDAR
VERSION:2.0
PRODID:-//Kirche Bergstedt - ECPv4.0.7//NONSGML v1.0//EN
CALSCALE:GREGORIAN
METHOD:PUBLISH
X-WR-CALNAME:Kirche Bergstedt
X-ORIGINAL-URL:http://kirchebergstedt.de
X-WR-CALDESC:Events for Kirche Bergstedt
BEGIN:VEVENT
DTSTART;TZID="Europe/Berlin":20231119T180000
DTEND;TZID="Europe/Berlin":20231119T200000
DTSTAMP:20260421T060543
CREATED:20230728T150735
LAST-MODIFIED:20231024T154842
UID:6820-1700416800-1700424000@kirchebergstedt.de
SUMMARY:Rheinberger Konzert\, Messe in C\, Missa Brevis in d\, Abendlied
DESCRIPTION:\n\n\n\n\nIV. RHEINBERGER-KONZERT\nDie Kantorei Oberalster hat durch das Musikprojekt „SING TOGETHER 2023“ viele neue Chorsänger*innen gewonnen und das ‚Requiem‘ von Gabriel Fauré am Karfreitag wunderschön aufgeführt.\nAm 19. November musiziert der Chor mit Solisten und Streichorchester schönste Stücke von Josef Gabriel Rheinberger (1839-1901). Außerdem werden Gesangsolostücke\, Instrumentalstücke und Orgelsolostücke von Rheinberger erklingen.\nEintritt ist 10 €\, unter 18 Jahre frei. Die Informationen für Vorverkaufsstellen und Abendkasse finden Sie ab Ende September auf der Homepage und auf den Schaukästen der Kirchengemeinde Oberalster-Bergstedt\n\nSopran: Eunhye Lee\n\nAlt: Sonja Tegges\n\nTenor: Yohan Kim\n\nBass: Hayong Huh\n\nKantorei Oberalster\n\nProjektstreichorchester\n\nLeitung: Ji-Hyun Park\n\nEintrittskarten für das Konzert:\n\nin der Buchhandlung Klauder in Duvenstedt\nund im Kaufhaus Hillmer in Bergstedt\,\nab 30.10. auch bei Ji-Hyun Park\nim Musik-Büro im Gemeindehaus Ohlstedt\, 1. Stock.\n10\,00 Euro für Erwachsene\,\nAchtung:\nWegen des begrenzten Platzes benötigen\nauch Unter-18-Jährige eine Eintrittskarte.\nSie ist kostenlos.\n\n\n\n\n\n
URL:http://kirchebergstedt.de/event/rheinberger-konzert-messe-in-c-missa-brevis-in-d-abendlied/
LOCATION:Bredenbeckstr. 59\, 22397 Hamburg
ATTACH;FMTTYPE=image/png:http://kirchebergstedt.de/wp-content/uploads/2023/07/Bildschirmfoto-2023-07-28-um-16.57.32.png
END:VEVENT
END:VCALENDAR