BEGIN:VCALENDAR
VERSION:2.0
PRODID:-//Kirche Bergstedt - ECPv4.0.7//NONSGML v1.0//EN
CALSCALE:GREGORIAN
METHOD:PUBLISH
X-WR-CALNAME:Kirche Bergstedt
X-ORIGINAL-URL:http://kirchebergstedt.de
X-WR-CALDESC:Events for Kirche Bergstedt
BEGIN:VEVENT
DTSTART;TZID="Europe/Berlin":20230219T180000
DTEND;TZID="Europe/Berlin":20230219T190000
DTSTAMP:20260421T044628
CREATED:20230210T131703
LAST-MODIFIED:20230210T131712
UID:6652-1676829600-1676833200@kirchebergstedt.de
SUMMARY:LIEDERABEND - Eintritt frei
DESCRIPTION:\n\n\n\nLieder und Opern-Arien von: Robert Schuman\, Gaetano Donizetti\, Gustave Charpentier und Georges Bizet\n\nvorgetragen von\n\n\n\n\nJinhee Lee (Sopran)\n\nYoungjun Ahn (Tenor)\n\nJi-Hyun Park (Klavier)\n\n\n\n\n\n\n
URL:http://kirchebergstedt.de/event/liederabend-eintritt-frei/
LOCATION:22397 Hamburg\, Madacker 5\, Deutschland
ATTACH;FMTTYPE=image/png:http://kirchebergstedt.de/wp-content/uploads/2023/02/Bildschirmfoto-2023-02-10-um-14.16.19.png
END:VEVENT
END:VCALENDAR