BEGIN:VCALENDAR
VERSION:2.0
PRODID:-//Kirche Bergstedt - ECPv4.0.7//NONSGML v1.0//EN
CALSCALE:GREGORIAN
METHOD:PUBLISH
X-WR-CALNAME:Kirche Bergstedt
X-ORIGINAL-URL:http://kirchebergstedt.de
X-WR-CALDESC:Events for Kirche Bergstedt
BEGIN:VEVENT
DTSTART;TZID="Europe/Berlin":20230616T193000
DTEND;TZID="Europe/Berlin":20230616T213000
DTSTAMP:20260421T074419
CREATED:20230214T075156
LAST-MODIFIED:20230520T180130
UID:6481-1686943800-1686951000@kirchebergstedt.de
SUMMARY:Lichtspiel-Sondervorführung: "Söhne ohne Väter – vom Verlust der Kriegsgeneration"
DESCRIPTION:\n\n\n\n\n\n\n\n\n\nIn einer Sondervorführung zeigt das Lichtspiel am 16. Juni um 19.30 Uhr eine Dokumentation von Andreas Fischer aus dem Jahr 2007 über heranwachsende Jungen in der Nachkriegszeit. Fast ein Drittel der Kinder\, die zwischen 1933 und 1945 geboren wurden\, wuchsen ohne Vater auf. Die Dokumentation setzt sich mit dem vaterlosen Aufwachsen von Männern in der Nachkriegszeit auseinander und vermittelt damit einen Eindruck von kollektiven Erfahrungen der Kriegsgeneration.\n \nIn „Söhne ohne Väter“ erzählen acht Männer in Interviews\, die zunächst 2004 als Buch erschienen\, wie sie das Aufwachsen ohne Väter in der Nachkriegszeit erlebt haben. \n\nDen Vater haben diese Söhne nicht bewusst kennengelernt. Er ist im Zweiten Weltkrieg gefallen und lebt nur in den Erzählungen der Mütter weiter. \nIn verschiedenen Themenblöcken erzählen sie über den Tod des Vaters\, das nicht immer unproblematische Verhältnis zur Mutter\, die Idealisierung des Vaters durch die jung verwitwete Mutter\, die Auswirkungen des vaterlosen Aufwachsens auf das Verhältnis zu den eigenen Söhnen und die Nähe zu einem Vater\, den man nie erlebt hat.\n \nNach dem Film wird es ausreichend Zeit zum Austausch geben. Diakonin Kirsten Sonnenburg\, Leiterin der Arbeitsstelle "Leben im Alter“ in Volksdorf wird das Lichtspielteam an diesem Abend begleiten.\n\nDer Eintritt ist frei - eine kleine Spende zur Deckung der Kosten ist willkommen.\n \nDie zweite 2016 entstandene Dokumentation von Andreas Fischer „Töchter ohne Väter“ wird auch beim Lichtspiel zu sehen sein. Der Termin wird noch bekannt gegeben. Bitte schauen Sie regelmäßig auf der Homepage vorbei oder werfen sie einen Blick in die kommenden Gemeindebriefe.\n\n\n\n\n\nStart 19:30\, der Einlass beginnt um 19.15 Uhr\nEintritt\, Getränke und Knabberkram sind wie immer frei - über eine kleine Spende zur Deckung der Kosten freuen sich die Lichtspieler.\n\n\n\n\n\nHier schon die weiteren Termine:\n\nEintritt\, Getränke und Knabberkram sind wie immer frei - über eine kleine Spende zur Deckung der Kosten freuen sich die Lichtspieler.\n\n\n\n \n
URL:http://kirchebergstedt.de/event/lichtspiel-mit-sommergrillen/
END:VEVENT
END:VCALENDAR