BEGIN:VCALENDAR
VERSION:2.0
PRODID:-//Kirche Bergstedt - ECPv4.0.7//NONSGML v1.0//EN
CALSCALE:GREGORIAN
METHOD:PUBLISH
X-WR-CALNAME:Kirche Bergstedt
X-ORIGINAL-URL:http://kirchebergstedt.de
X-WR-CALDESC:Events for Kirche Bergstedt
BEGIN:VEVENT
DTSTART;TZID="Europe/Berlin":20231118T093000
DTEND;TZID="Europe/Berlin":20231118T133000
DTSTAMP:20260421T044353
CREATED:20230725T191309
LAST-MODIFIED:20230725T191329
UID:6813-1700299800-1700314200@kirchebergstedt.de
SUMMARY:Gartentag der Bergstedter Kirche
DESCRIPTION:\n\n\n\n\nLiebe Gartenfreunde der Bergstedter Kirche\,\n\nUnsere Gartengruppe plant folgenden Geländetag:\n\n18.11.\n\nWir treffen uns um 9.30 h an der Garage vor dem Gemeindehaus Bergstedt. Gearbeitet wird bis ca 13 h; es gibt eine Kaffeepause\, Getränke und etwas Warmes zu Essen. Bitte möglichst Handschuhe mitbringen; Gartengeräte sind zahlreich vorhanden (schön wäre evt. eine weitere Heckenschere...). Für die Planung (Arbeit bzw. Essen!) meldet euch bitte kurz per Mail bei uns unter findus-hh@t-online.de.\n\n\n\n\n Konfis bekommen übrigens für ihre Mitarbeit einen „Sozialstempel“\n\n\n\n\n\n\n\n\n\nFür Rückfragen wenden sich Interessierte bitte an Friedrich Prager (604 75 49).\n\n\n\n\n
URL:http://kirchebergstedt.de/event/gartentag-der-bergstedter-kirche-8/
CATEGORIES:Gruppen & Kreise
ATTACH;FMTTYPE=image/jpeg:http://kirchebergstedt.de/wp-content/uploads/2020/02/20190323_124205-1.jpg
END:VEVENT
END:VCALENDAR