BEGIN:VCALENDAR
VERSION:2.0
PRODID:-//Kirche Bergstedt - ECPv4.0.7//NONSGML v1.0//EN
CALSCALE:GREGORIAN
METHOD:PUBLISH
X-WR-CALNAME:Kirche Bergstedt
X-ORIGINAL-URL:http://kirchebergstedt.de
X-WR-CALDESC:Events for Kirche Bergstedt
BEGIN:VEVENT
DTSTART;TZID="Europe/Berlin":20231203T180000
DTEND;TZID="Europe/Berlin":20231203T200000
DTSTAMP:20260421T074013
CREATED:20230728T150916
LAST-MODIFIED:20230728T153114
UID:6821-1701626400-1701633600@kirchebergstedt.de
SUMMARY:„HAPPY ADVENT“ ADVENTSSINGEN 2023 Mit den Blackbirds\, Sing’n’Rejoice und Sie/Du
DESCRIPTION:\n\n\n\n\n„HAPPY ADVENT“ ADVENTSSINGEN 2023  ♬♬\nDie schöne Adventszeit kommt wieder! Lassen wir uns die Freude nicht verderben und genießen wir doch zusammen die schönste Zeit im Jahr! Die Gospelchöre Blackbirds\, Sing‘n’Rejoice und die Chorleiterin Ji-Hyun Park würden Sie/Dich gerne zum Adventssingen am 1. Advent (3.12.) einladen!\nWir freuen uns auf eine gemeinsame wunderbare Stunde mit schönen Advents- und Weihnachtsliedern!\nMit den Blackbirds\, Sing’n’Rejoice und Sie/Du\n\nKlavier: Dongbin Kim\n\nLeitung: Ji-Hyun Park\n\n\n\n\n
URL:http://kirchebergstedt.de/event/adventssingen/
LOCATION:Bredenbeckstr. 59\, 22397 Hamburg
ATTACH;FMTTYPE=image/png:http://kirchebergstedt.de/wp-content/uploads/2023/07/Bildschirmfoto-2023-07-28-um-16.59.30.png
END:VEVENT
END:VCALENDAR